BEGIN:VCALENDAR
VERSION:2.0
PRODID:-//FITNES KONVENCIJA - ECPv6.15.8//NONSGML v1.0//EN
CALSCALE:GREGORIAN
METHOD:PUBLISH
X-ORIGINAL-URL:https://www.fitnes-konvencija.eu
X-WR-CALDESC:Dogodki za FITNES KONVENCIJA
REFRESH-INTERVAL;VALUE=DURATION:PT1H
X-Robots-Tag:noindex
X-PUBLISHED-TTL:PT1H
BEGIN:VTIMEZONE
TZID:Europe/Ljubljana
BEGIN:DAYLIGHT
TZOFFSETFROM:+0100
TZOFFSETTO:+0200
TZNAME:CEST
DTSTART:20240331T010000
END:DAYLIGHT
BEGIN:STANDARD
TZOFFSETFROM:+0200
TZOFFSETTO:+0100
TZNAME:CET
DTSTART:20241027T010000
END:STANDARD
BEGIN:DAYLIGHT
TZOFFSETFROM:+0100
TZOFFSETTO:+0200
TZNAME:CEST
DTSTART:20250330T010000
END:DAYLIGHT
BEGIN:STANDARD
TZOFFSETFROM:+0200
TZOFFSETTO:+0100
TZNAME:CET
DTSTART:20251026T010000
END:STANDARD
BEGIN:DAYLIGHT
TZOFFSETFROM:+0100
TZOFFSETTO:+0200
TZNAME:CEST
DTSTART:20260329T010000
END:DAYLIGHT
BEGIN:STANDARD
TZOFFSETFROM:+0200
TZOFFSETTO:+0100
TZNAME:CET
DTSTART:20261025T010000
END:STANDARD
END:VTIMEZONE
BEGIN:VEVENT
DTSTART;TZID=Europe/Ljubljana:20251025T150000
DTEND;TZID=Europe/Ljubljana:20251025T160000
DTSTAMP:20260419T211457
CREATED:20250904T105327Z
LAST-MODIFIED:20250911T113231Z
UID:10000007-1761404400-1761408000@www.fitnes-konvencija.eu
SUMMARY:TOTAL BODY WORKOUT
DESCRIPTION:Total Body Workout je visokointenzivna vadba celega telesa. V samo 60 minutah se prepletajo funkcionalne vaje za moč\, vzdržljivost\, gibljivost in koordinacijo. Na prav poseben način se vadeči prepustijo kompleksnim vajam do prijetnega občutka mišične odpovedi in izgubijo občutek za čas. Je izredno popularna vadba v zadnji sezoni fitnes vodenih vadb. \nTotal Body Workout is a high-intensity full-body training session. In just 60 minutes\, it combines functional exercises for strength\, endurance\, mobility\, and coordination. Participants are guided through complex movements that lead to a satisfying feeling of muscle fatigue while completely losing track of time. This has become one of the most popular workouts in the latest group fitness season.
URL:https://www.fitnes-konvencija.eu/event2/total-body-workout/
LOCATION:BODIFIT Studenci – velika dvorana –\, Na Poljanah 20\, Maribor\, 2000\, Slovenia
CATEGORIES:Masterclass
ATTACH;FMTTYPE=image/webp:https://www.fitnes-konvencija.eu/wp-content/uploads/2025/09/Teddy_Otieno_foto-6.webp
END:VEVENT
BEGIN:VEVENT
DTSTART;TZID=Europe/Ljubljana:20251025T090000
DTEND;TZID=Europe/Ljubljana:20251025T100000
DTSTAMP:20260419T211457
CREATED:20250904T104634Z
LAST-MODIFIED:20250911T113121Z
UID:10000006-1761382800-1761386400@www.fitnes-konvencija.eu
SUMMARY:BOOTY WORK
DESCRIPTION:Booty Work je specializirana delavnica\, namenjena krepitvi in oblikovanju spodnjega dela telesa s posebnimi elastičnimi trakovi. Osredotoča se na ciljno aktivacijo zadnjice\, bokov in nog z vajami za moč\, stabilnost in eksplozivnost. Skozi kombinacijo vaj z lastno težo in pripomočki udeleženci spoznajo pravilno tehniko in se naučijo\, kako optimizirati učinek treninga za lepše oblikovane in močnejše zadnjične mišice. Delavnica je primerna za booty navdušence\, ki želijo izboljšati svojo telesno držo\, moč in funkcionalnost. \nBooty Work is a specialized workshop focused on strengthening and shaping the lower body. It emphasizes targeted activation of the glutes\, hips\, and legs through exercises that build strength\, stability\, and explosiveness. Combining bodyweight and equipment-based drills\, participants learn proper technique and how to maximize their training results for stronger\, better-shaped glutes. Perfect for booty entusiast looking to improve posture\, lower-body strength\, and overall functionality. \n\n\n\n\n\n\n\n\n\n 
URL:https://www.fitnes-konvencija.eu/event2/booty-work/
LOCATION:BODIFIT Studenci – mala dvorana –\, Na Poljanah 20\, Maribor\, 2000\, Slovenia
CATEGORIES:Delavnica
ATTACH;FMTTYPE=image/webp:https://www.fitnes-konvencija.eu/wp-content/uploads/2025/09/Teddy_Otieno_foto-6.webp
END:VEVENT
END:VCALENDAR