BEGIN:VCALENDAR
VERSION:2.0
PRODID:-//FITNES KONVENCIJA - ECPv6.15.8//NONSGML v1.0//EN
CALSCALE:GREGORIAN
METHOD:PUBLISH
X-WR-CALNAME:FITNES KONVENCIJA
X-ORIGINAL-URL:https://www.fitnes-konvencija.eu
X-WR-CALDESC:Dogodki za FITNES KONVENCIJA
REFRESH-INTERVAL;VALUE=DURATION:PT1H
X-Robots-Tag:noindex
X-PUBLISHED-TTL:PT1H
BEGIN:VTIMEZONE
TZID:Europe/Ljubljana
BEGIN:DAYLIGHT
TZOFFSETFROM:+0100
TZOFFSETTO:+0200
TZNAME:CEST
DTSTART:20240331T010000
END:DAYLIGHT
BEGIN:STANDARD
TZOFFSETFROM:+0200
TZOFFSETTO:+0100
TZNAME:CET
DTSTART:20241027T010000
END:STANDARD
BEGIN:DAYLIGHT
TZOFFSETFROM:+0100
TZOFFSETTO:+0200
TZNAME:CEST
DTSTART:20250330T010000
END:DAYLIGHT
BEGIN:STANDARD
TZOFFSETFROM:+0200
TZOFFSETTO:+0100
TZNAME:CET
DTSTART:20251026T010000
END:STANDARD
BEGIN:DAYLIGHT
TZOFFSETFROM:+0100
TZOFFSETTO:+0200
TZNAME:CEST
DTSTART:20260329T010000
END:DAYLIGHT
BEGIN:STANDARD
TZOFFSETFROM:+0200
TZOFFSETTO:+0100
TZNAME:CET
DTSTART:20261025T010000
END:STANDARD
END:VTIMEZONE
BEGIN:VEVENT
DTSTART;TZID=Europe/Ljubljana:20251026T090000
DTEND;TZID=Europe/Ljubljana:20251026T100000
DTSTAMP:20260419T201903
CREATED:20250907T192535Z
LAST-MODIFIED:20250911T140029Z
UID:10000048-1761469200-1761472800@www.fitnes-konvencija.eu
SUMMARY:SENIOR FITNESS
DESCRIPTION:Senior Fitness je delavnica namenjena ohranjanju vitalnosti in zdravja starejših odraslih. Program vključuje prilagojene vaje za moč\, gibljivost\, ravnotežje in vzdržljivost\, ki pripomorejo k večji funkcionalnosti in samostojnosti v vsakdanjem življenju. Nina udeležence vodi skozi varno in prijetno vadbo ter svetuje\, kako lahko s preprostimi vajami izboljšajo kakovost življenja. \nSenior Fitness is a workshop designed to maintain vitality and health in older adults. It features tailored exercises for strength\, mobility\, balance\, and endurance\, helping participants stay functional and independent in daily life. Nina provides safe and enjoyable training along with practical tips for improving overall well-being.
URL:https://www.fitnes-konvencija.eu/event2/senior-fitness/
LOCATION:BODIFIT Studenci – mala dvorana –\, Na Poljanah 20\, Maribor\, 2000\, Slovenia
CATEGORIES:Delavnica
ATTACH;FMTTYPE=image/webp:https://www.fitnes-konvencija.eu/wp-content/uploads/2025/09/nina_andelkovic_foto-1.webp
END:VEVENT
END:VCALENDAR