BEGIN:VCALENDAR
VERSION:2.0
PRODID:-//FITNES KONVENCIJA - ECPv6.15.8//NONSGML v1.0//EN
CALSCALE:GREGORIAN
METHOD:PUBLISH
X-ORIGINAL-URL:https://www.fitnes-konvencija.eu
X-WR-CALDESC:Dogodki za FITNES KONVENCIJA
REFRESH-INTERVAL;VALUE=DURATION:PT1H
X-Robots-Tag:noindex
X-PUBLISHED-TTL:PT1H
BEGIN:VTIMEZONE
TZID:Europe/Ljubljana
BEGIN:DAYLIGHT
TZOFFSETFROM:+0100
TZOFFSETTO:+0200
TZNAME:CEST
DTSTART:20240331T010000
END:DAYLIGHT
BEGIN:STANDARD
TZOFFSETFROM:+0200
TZOFFSETTO:+0100
TZNAME:CET
DTSTART:20241027T010000
END:STANDARD
BEGIN:DAYLIGHT
TZOFFSETFROM:+0100
TZOFFSETTO:+0200
TZNAME:CEST
DTSTART:20250330T010000
END:DAYLIGHT
BEGIN:STANDARD
TZOFFSETFROM:+0200
TZOFFSETTO:+0100
TZNAME:CET
DTSTART:20251026T010000
END:STANDARD
BEGIN:DAYLIGHT
TZOFFSETFROM:+0100
TZOFFSETTO:+0200
TZNAME:CEST
DTSTART:20260329T010000
END:DAYLIGHT
BEGIN:STANDARD
TZOFFSETFROM:+0200
TZOFFSETTO:+0100
TZNAME:CET
DTSTART:20261025T010000
END:STANDARD
END:VTIMEZONE
BEGIN:VEVENT
DTSTART;TZID=Europe/Ljubljana:20251026T140000
DTEND;TZID=Europe/Ljubljana:20251026T150000
DTSTAMP:20260421T210614
CREATED:20250907T193843Z
LAST-MODIFIED:20250911T140113Z
UID:10000051-1761487200-1761490800@www.fitnes-konvencija.eu
SUMMARY:TRIGER TAČKE & TENIS LOPTA
DESCRIPTION:Delavnica se osredotoča na sproščanje napetosti in bolečin v mišicah z uporabo teniških žogic za masažo trigger točk. Udeleženci spoznajo\, kako prepoznati boleče točke v telesu ter jih z enostavnimi tehnikami samomasaže učinkovito sprostiti. Primerna je za vse\, ki želijo izboljšati gibljivost\, zmanjšati bolečine in izboljšati regeneracijo po vadbi. \nThis workshop focuses on relieving muscle tension and pain using tennis balls for self-massage of trigger points. Participants learn how to identify and release tight spots in the body through simple\, effective techniques. Ideal for anyone seeking better mobility\, reduced pain\, and improved recovery.
URL:https://www.fitnes-konvencija.eu/event2/triger-tocke-tenis-zogice/
LOCATION:BODIFIT Studenci – mala dvorana –\, Na Poljanah 20\, Maribor\, 2000\, Slovenia
CATEGORIES:Delavnica
ATTACH;FMTTYPE=image/webp:https://www.fitnes-konvencija.eu/wp-content/uploads/2025/09/nina_andelkovic_foto-1.webp
END:VEVENT
END:VCALENDAR