BEGIN:VCALENDAR
VERSION:2.0
PRODID:-//FITNES KONVENCIJA - ECPv6.15.8//NONSGML v1.0//EN
CALSCALE:GREGORIAN
METHOD:PUBLISH
X-WR-CALNAME:FITNES KONVENCIJA
X-ORIGINAL-URL:https://www.fitnes-konvencija.eu
X-WR-CALDESC:Dogodki za FITNES KONVENCIJA
REFRESH-INTERVAL;VALUE=DURATION:PT1H
X-Robots-Tag:noindex
X-PUBLISHED-TTL:PT1H
BEGIN:VTIMEZONE
TZID:Europe/Ljubljana
BEGIN:DAYLIGHT
TZOFFSETFROM:+0100
TZOFFSETTO:+0200
TZNAME:CEST
DTSTART:20240331T010000
END:DAYLIGHT
BEGIN:STANDARD
TZOFFSETFROM:+0200
TZOFFSETTO:+0100
TZNAME:CET
DTSTART:20241027T010000
END:STANDARD
BEGIN:DAYLIGHT
TZOFFSETFROM:+0100
TZOFFSETTO:+0200
TZNAME:CEST
DTSTART:20250330T010000
END:DAYLIGHT
BEGIN:STANDARD
TZOFFSETFROM:+0200
TZOFFSETTO:+0100
TZNAME:CET
DTSTART:20251026T010000
END:STANDARD
BEGIN:DAYLIGHT
TZOFFSETFROM:+0100
TZOFFSETTO:+0200
TZNAME:CEST
DTSTART:20260329T010000
END:DAYLIGHT
BEGIN:STANDARD
TZOFFSETFROM:+0200
TZOFFSETTO:+0100
TZNAME:CET
DTSTART:20261025T010000
END:STANDARD
END:VTIMEZONE
BEGIN:VEVENT
DTSTART;TZID=Europe/Ljubljana:20251025T170000
DTEND;TZID=Europe/Ljubljana:20251025T180000
DTSTAMP:20260419T221138
CREATED:20250904T115118Z
LAST-MODIFIED:20250911T135140Z
UID:10000022-1761411600-1761415200@www.fitnes-konvencija.eu
SUMMARY:KAKO PRIDOBITI OČI NA SOCIALNIH OMREŽJIH ZA 5 €
DESCRIPTION:Predavanje raziskuje učinkovite metode promocije in oglaševanja na družbenih omrežjih z omejenim proračunom. Aleš Potrč bo razkril\, kako z minimalnim vložkom doseči največji doseg\, pridobiti sledilce in potencialne stranke ter povečati prepoznavnost svojih storitev. Udeleženci bodo spoznali praktične trike in strategije za učinkovito uporabo socialnih platform v vsakdanjem delu osebnega trenerja. \nThis lecture explores effective methods of promotion and advertising on social media with a limited budget. Aleš Potrč will reveal how to maximize reach\, gain followers and potential clients\, and increase visibility with minimal investment. Participants will learn practical tips and strategies for using social platforms efficiently in their daily work as personal trainers.
URL:https://www.fitnes-konvencija.eu/event2/kako-pridobiti-oci-na-socialnih-omrezjih-za-5-e/
LOCATION:BODIFIT Studenci – predavalnica –\, Na Poljanah 20\, Maribor\, 2000\, Slovenia
CATEGORIES:Predavanje
ATTACH;FMTTYPE=image/png:https://www.fitnes-konvencija.eu/wp-content/uploads/2025/08/Ales_Potrc_foto-1-e1757278192778.png
END:VEVENT
END:VCALENDAR