BEGIN:VCALENDAR
VERSION:2.0
PRODID:-//FITNES KONVENCIJA - ECPv6.15.8//NONSGML v1.0//EN
CALSCALE:GREGORIAN
METHOD:PUBLISH
X-ORIGINAL-URL:https://www.fitnes-konvencija.eu
X-WR-CALDESC:Dogodki za FITNES KONVENCIJA
REFRESH-INTERVAL;VALUE=DURATION:PT1H
X-Robots-Tag:noindex
X-PUBLISHED-TTL:PT1H
BEGIN:VTIMEZONE
TZID:Europe/Ljubljana
BEGIN:DAYLIGHT
TZOFFSETFROM:+0100
TZOFFSETTO:+0200
TZNAME:CEST
DTSTART:20240331T010000
END:DAYLIGHT
BEGIN:STANDARD
TZOFFSETFROM:+0200
TZOFFSETTO:+0100
TZNAME:CET
DTSTART:20241027T010000
END:STANDARD
BEGIN:DAYLIGHT
TZOFFSETFROM:+0100
TZOFFSETTO:+0200
TZNAME:CEST
DTSTART:20250330T010000
END:DAYLIGHT
BEGIN:STANDARD
TZOFFSETFROM:+0200
TZOFFSETTO:+0100
TZNAME:CET
DTSTART:20251026T010000
END:STANDARD
BEGIN:DAYLIGHT
TZOFFSETFROM:+0100
TZOFFSETTO:+0200
TZNAME:CEST
DTSTART:20260329T010000
END:DAYLIGHT
BEGIN:STANDARD
TZOFFSETFROM:+0200
TZOFFSETTO:+0100
TZNAME:CET
DTSTART:20261025T010000
END:STANDARD
END:VTIMEZONE
BEGIN:VEVENT
DTSTART;TZID=Europe/Ljubljana:20251025T100000
DTEND;TZID=Europe/Ljubljana:20251025T110000
DTSTAMP:20260420T150831
CREATED:20250909T183049Z
LAST-MODIFIED:20250912T064953Z
UID:10000067-1761386400-1761390000@www.fitnes-konvencija.eu
SUMMARY:CORE WORKSHOP
DESCRIPTION:Na delavnici se bodo obravnavale osnovne vaje za aktivacijo jedra in najnovejše variacije\, tehnike za boljšo aktivacijo in celovito treniranje jedra. Dimitris bo predstavil svoj način dela z vadečimi znotraj skupinskih vadb in tudi individualnih obravnav. Začutite grški pridih aktivacije jedra! \nThis workshop will cover fundamental core activation exercises\, along with the latest variations and techniques for enhanced activation and comprehensive core training.Dimitris will share his approach to working with participants in both group classes and individual sessions. Experience a touch of Greek flair in core activation!
URL:https://www.fitnes-konvencija.eu/event2/core-workshop/
LOCATION:BODIFIT Studenci – mala dvorana –\, Na Poljanah 20\, Maribor\, 2000\, Slovenia
CATEGORIES:Delavnica
ATTACH;FMTTYPE=image/webp:https://www.fitnes-konvencija.eu/wp-content/uploads/2025/09/dimitris_ioannou-foto-1.webp
END:VEVENT
END:VCALENDAR